BEGIN:VCALENDAR
VERSION:2.0
PRODID:-//Transformations Coaching &amp; Hypnotherapy - ECPv5.3.2.1//NONSGML v1.0//EN
CALSCALE:GREGORIAN
METHOD:PUBLISH
X-WR-CALNAME:Transformations Coaching &amp; Hypnotherapy
X-ORIGINAL-URL:https://www.transformyou.com.au
X-WR-CALDESC:Events for Transformations Coaching &amp; Hypnotherapy
BEGIN:VTIMEZONE
TZID:Australia/Brisbane
BEGIN:STANDARD
TZOFFSETFROM:+1000
TZOFFSETTO:+1000
TZNAME:AEST
DTSTART:20210101T000000
END:STANDARD
END:VTIMEZONE
BEGIN:VEVENT
DTSTART;TZID=Australia/Brisbane:20210208T100000
DTEND;TZID=Australia/Brisbane:20210208T110000
DTSTAMP:20210228T084432
CREATED:20200618T144918Z
LAST-MODIFIED:20201117T142357Z
UID:1834-1612778400-1612782000@www.transformyou.com.au
SUMMARY:THINK - Outside the Box!
DESCRIPTION:Do you self-sabotage yourself? Maybe you don’t even know you are doing it!  Do you start things and not finish them? Are you having trouble finding motivation? \nIs your mind constantly conflicted causing you to give up before you even start? Some people just think this is just part of life\, but when these habits become ingrained you miss out on so many opportunities!\nYou don’t have to just grin and bear it\, you can take control of your life!\n\nIt’s TIME to change your thinking!\n \nStart to THINK- Outside the Box –  the box we lock ourselves into by our own self-sabotage thoughts\, habits\, and beliefs!\n\nJoin our webinar to find out:\n\n\n\nWhere your self-sabotaging beliefs come from\nHow to identify them\nHow to THINK differently!\nDiscover What You Value and how that drives your decisions\nKnow the power of ‘I Choose!’\n\nOne of the hardest battles we fight in our life is the mental battle with the ‘demons’ inside our heads!  That little voice that second guesses you\, that tells you ‘You can’t do that!’ or asks ‘Who do you think you are?’  We all have a voice that can stop us from achieving our potential!  Some people control it!  Want to know how they do it?\n\nMonday 8th February 2021 at 10 am…\n\nBook Here for the Link to Eventbrite to Book in.\n\nNothing to download\, no fees to pay for Zoom.  just click the link I send you and Zoom will open a link\, click on it to download the software and you are ready to go.\n\n\n\n\n 
URL:https://www.transformyou.com.au/events/outsmart-self-sabotage-1/
LOCATION:ZOOM\, Queensland\, Australia
ATTACH;FMTTYPE=image/jpeg:https://www.transformyou.com.au/wp-content/uploads/2020/06/self-sabotage-webinar-event.jpg
ORGANIZER;CN="Joslyn%20Gardiner":MAILTO:info@transformyou.com.au
END:VEVENT
END:VCALENDAR